Workbook
Name InitiativesList: '[1]IO List'!$A$10:$A$34
Name IntendedOutcomeList: '[2]IO List'!$A$2:$A$7
Name IntendedOutcomes: '[1]IO List'!$A$2:$A$7

Sheet Eco_Health_Dist
A1: Intended Outcome | B1: Initiative | C1: Project Title (20 words max.) | D1: Project Description: What is the problem? Why is research needed? What will the research deliver to help the clients? (3 sentences max) | E1: Project Start Date (Initial Start of Project) | F1: Project Expected End Date | G1: Activity title: (the title should provide enough detail to provide a brief description, include EP# if applicable) | H1: Activity Description (100 words max!) (last year & current year activities) | I1: 2019/20 Specific Deliverables that will help to achieve the project objectives (Who is Target Audience? - Names/Positions) | J1: 2018/19 Specific Deliverables that will help to achieve the project objectives | K1: Are 2018/2019 deliverables on track to be completed by end of fiscal year. Which, if any, have been completed | L1: If 2018/19 Deliverables are not anticipated to be achieved, which ones and why? | M1: Activity Completion Date | N1: Principle Investigator | O1: Area | P1: Region/Branch | Q1: Response Centre (optional) | R1: Region/Area Impacted | S1: Continuing (c) or New (n) Activity? | T1: Are previous research activities at risk if not funded? If yes, describe. | U1: 2018/19 Approved Funding $ | V1: 2019/20 $ | W1: Activity receiving funding from other source? Y/N | X1: What is additional funding source? (eg HCTF, FFSBC, FES, etc…) | Y1: YEP (2019/20) | Z1: Co-op (2019/20) | AA1: Grad/Aux (2019/20) | AB1: Does this link to other IOs, if yes, which? | AC1: Partners and Collaborators (names and affiliation) | AD1: Comments
A2: Ecosystem Health and Disturbance | B2: Disturbance Impacts and risk reduction | C2: Soil moisture and physical condition as factors affecting the response of new forests to anthropogenic disturbance in a changing climate (EP1148) | D2: Risks associated with biotic and abiotic disturbance agents, and the role of climate change in altering these dynamics, threatens multiple resource and social values across the province. Research is needed to modify existing resource management practices, and develop new practices that will reduce the impacts of significant predicted disturbances. Outcomes of this research will support policy | E2: 2016 | F2: 2021 | G2: Soil moisture, physical condition, and nutrient regime as fundamental factors affecting the response of new forests to anthropogenic disturbance in a changing climate (EP1148) | H2: Detailed site evaluations will be carried out on existing long term research plots using LIDAR or equivalent / similar terrain descriptors. Site conditions will be monitored with automated weather stations and water content sensors,to provide a real time perspective on growing conditionsin the root zone. These assessments of the temporal and spatial variation in growing conditions with be related to seedling growth parameters twenty years after disturbance and establishment of the new forest. | I2: Deliverables for 19/20: • Detailed topographic and physical evaluation of soil moisture and nutrient regime for LTSP plots 20 years after treatments were imposed. • Twenty year measurements at Black Pines research site. • Target audience: • Forest managers and silviculture staff - Louise deMontigny, Lorne Bedford. | J2: Deliverables for 18/19: • Detailed topographic and physical evaluation of soil moisture and nutrient regime. • Twenty year measurements at Dairy Creek research site. • Target audience: • Forest managers and silviculture staff - Louise deMontigny, Lorne Bedford. | K2: yes - measurements are complete | L2: na | M2: March 31, 2020. | N2: Bulmer C / Wallace B | O2: South | P2: Thompson-Okanagan | Q2: 71944 | R2: Provincial | S2: C | T2: Yes - LTSP site remeasurements are included as part f this years funding. | U2: 20700 | V2: 20000 | W2: N | Z2: 1 | AB2: Ecosystem Stewardship, Timber Supply | AC2: Tom Pypker (TRU); Tim Philpott (FLNRORD); Brendan Miller (FLNRORD) | AD2: 20 year measurements for tree height on Black Pines LTSP site. Foliar analysis
A3: Ecosystem Health and Disturbance | B3: Disturbance Factors | C3: Managing for resilience in the IDF: strategic management options to mitigate defoliator and bark beetle damage in unpredictable climate regimes. | D3: Western spruce budworm and Douglas-fir beetle, both influenced by climate variables, impact stands throughout the IDF regardless of management designation or constraints thus impeding goals and expectations. Spatial and temporal impacts of these insects need to be quantified in relation to existing management regimes and future best management practices to increase tree and stand resiliency. This research will deliver quantifiable thresholds for damage in a suite of stand management situations and propose recommendations for harvest timing, intervention, treatments to reduce future damage (including the optimization of B.t.k. treatments) and density manipulation. | E3: 2013 | F3: 2022 | G3: Tree and stand analysis of defoliator and bark beetle outbreak impacts in the Interior Douglas-fir Zone (IDF): development of strategic management options to reduce risk from western spruce budworm (WSB) and Douglas-fir bark beetle (DFB) in a range of management regimes and stand structures. | H3: The interaction of DFB attack and past WSB defoliation was investigated, and the efficacy of traditional management tactics for DFB in burnt landscapes. WSB populations are building, thus we have an opportunity to track and quantify outbreak amplitude relative to stand structure and density; resultant tree response to defoliation; and, early intervention with B.t.k. sprays. Individual tree and stand defoliation will be related to incremental, shoot and height growth of sub-dominant trees in stands undergoing light, moderate and severe defoliation. Divergent stand structure and density will be compared over the latitudinal range of WSB with/ without early intervention with B.t.k. | I3: The objective of this project is to further elucidate the relationship between WSB defoliation, stand structure, understory density, and the timing and amplitude of impact (growth stagnation, top-kill, mortality) on regeneration and overstory canopy. The timing and amplitude of growth cessation and growth resumption will be compared among stands that have been impacted by low, moderate and high populations of WSB and stands treated with B.t.k. This may lead to improved timing of B.t.k. spray programs and targeted intermediate stand tending prescriptions that could reduce impact. Target audience is: Chief Forester; FAIB; Woodlot licensees; Managers of Old Growth and mule deer winter range; First Nations; Regional and District Managers; major Licensees; and, District and Regional Forest Health Specialists. 1. Delineate stands within proximity of active WSB populations and select replicated areas containing Layer 3 and 4 Douglas-fir where sampling and monitoring will be conducted. Stands from the Cariboo south through to the Princeton area will be selected to describe the range of WSB and climate variables. 2. A range of understory density will be selected or manipulated through thinning, to test density and structure in different budworm larval density. 3. Shoot growth, current year defoliation (Fettes estimate), top-kill and incremental growth (understory) will be assessed. 4. Understory response to B.t.k. spray will be compared to untreated trees/stands. 5. Cores collected earlier in this study will be used to compare mature Douglas-fir response to treatment (Maclauchlan et. al. 2018). 6. Update defoliator management guidelines to reflect results of this project and provide clarification as to when and where to optimize treatments. | J3: 1. We have developed 46 new site-level ring-width chronologies for host Douglas-fir trees and 11 non-host chronologies, including one regional and nine local Ponderosa pine chronologies and one regional lodgepole pine chronology from 905 cores collected from plots across 10 WSB Outbreak Regions (2011-2012) (Maclauchlan et. al. 2018). These plots and chronologies (as appropriate) will be used to compare mature Douglas-fir response to treatment as some core sites were treated with B.t.k. 2. We now have a robust collection of permanent sample plots, research installations plus a spatial history of B.t.k. treatments in southern B.C. Additional sample plots necessary to achieve the project objectives will add to our understanding of budworm in B.C.’s IDF forests and management options. 3. B.t.k. treatment is calibrated on overstory tree WSB population, defoliation and budflush to maximize larval mortality on the L1 component which will result in future protection of L2, L3 and L4 trees. This project will further elucidate the spatial and more importantly temporal differences in larval density, budflush and damage to understory versus overstory trees. 4. Density, in particular understory density and overtopping by L1 trees influences the severity of defoliation. This project will provide information to optimize regeneration and stand tending to minimize losses while optimizing growth and drought resilience. 5. These future managed stand scenarios will provide more resilience to Douglas-fir beetle attack. Maclauchlan, L.E., L.D. Daniels, J.C. Hodge and J.E. Brooks. 2018. Characterization of Western Spruce Budworm Outbreak Regions in the British Columbia Interior. Can. J. For. Res 48: 783-802. | K3: The deliverables for 2018/19 are on track. The following deliverables have been completed or are in the final analysis/write-up stage: 1. The spatial analysis of recent Douglas-fir beetle attack, drought and fire in the 100 Mile House and Merritt/Kamloops TSA’s was intersected with Aerial Overview Mapping records of past (most recent outbreak) budworm defoliation, by severity. From this spatial analysis sites were selected for sampling and core collection. 2. Increment cores were collected from 15 sites. The oldest DFB attack to most recently attacked fir in each site was cored plus unattacked Douglas-fir of similar attributes in close proximity to attacked trees. Sites that had presumably experienced no stress (no WSB defoliation) were also sampled and compared to cores from sites with WSB defoliation history. A total of 83 trees were cored (±166 cores). 3. Within or near fire perimeters there is a mix of potential host material for the DFB, ranging from blackened trees, scorched trees with red needles to green trees. Forest managers need to apply the most effective and efficient recovery strategies that combine DFB control, fire salvage and protection of ecological values. Three treatment tactics and controls within two burn intensities (red scorch and green scorch) were tested in 2018 for efficacy in attracting and holding DFB. The treatments tested were: 1) placement of trap trees (in green scorch only); and, 2) grid baiting proposed harvest blocks to contain and concentrate DFB; and, augmented trapping using clusters of 3 funnel traps (baited with host and DFB volatiles) placed centrally in proposed harvest blocks. 4. Met with TSA groups to inform them on forests most susceptible to DFB (hazard ranking) post-wildfire. 5. Management strategy (Best Management Practices) for DFB in post-wildfire scenarios is completed and will work with Communications branch to publish. Manuscript published: Maclauchlan, L.E., L.D. Daniels, J.C. Hodge and J.E. Brooks. 2018. Characterization of Western Spruce Budworm Outbreak Regions in the British Columbia Interior. Can. J. For. Res 48: 783-802. | L3: All deliverables will be achieved. | M3: 2021 | N3: Lorraine Maclauchlan | O3: IDF in Thompson Okanagan and Cariboo Regions | P3: Thompson Okanagan Region | Q3: 71944 | R3: All Southern Interior area (TOR, CAR, KBR) | S3: Continuing Activity | T3: Yes. Annual monitoring of plots and defoliation intensity must be continued through the incipient to outbreak stages of the currently building WSB outbreak to record the full cycle. | U3: 31102 | V3: 35000 | W3: N | AA3: yes | AB3: Timber, Ecosystem Stewardship | AC3: Debra Wytrykush, Cariboo Entomologist, MFLNRORD; Babita Baines, Provincial Entomologist, MFLNRORD; District Forest Health staff; and Lisa Poirier, UNBC (pending graduate student)
A4: Ecosystem Health and Disturbance | B4: Disturbance Factors | C4: Managing mortality agents of subalpine fir: elucidation of stand and landscape-level response and impact of insects to erratic climate events. | D4: Over the past two decades subalpine fir mortality has been increasing due to accelerating insect attack - Dryocoetes confusus (WBBB) and others, and erratic climatic events including drought. Drought events, bark beetle attack and associated mortality factors will increase as the periodicity and severity of climatic events increase. This research will provide a risk assessment and suggested management approaches for subalpine fir ecosystems and an understanding of stand, climate and ecological parameters that influence insect response and potential management in these high elevation forests. | E4: 2014 | F4: 2022 | G4: Interactions and cumulative impact of erratic climate influences the life history, host selection parameters and stand impact of two subalpine fir (Bl) pests: the balsam weevil, Pissodes striatulus, and western balsam bark beetle (WBBB), Dryocoetes confusus. Understanding the spatial and temporal distribution of these insects will facilitate more targeted harvest, retention and reforestation guidelines in subalpine fir dominated stands and thus address the accelerated mortality occurring in these high elevation forests. | H4: This research demonstrates two repercussions of climate change: accelerated rates of Bl mortality and a once-innocuous insect becoming a threat. Long-term research installations will be re-measured to complete a 25 year monitoring of Bl stands; and, one final plot established to complete the BEC coverage. Management strategies for Bl will be developed over the next two years as this vast amount of data are analysed. The amalgamated data from WBBB/balsam weevil studies and site monitoring will be summarized and form the basis for a hazard-risk system, web site update, Best Management Practices and revised estimate of losses for applicable TSR’s. | I4: Both WBBB and balsam weevil attack and kill mature subalpine fir alone or in combination. Our research has linked climate-induced stress to increased attack by these insects. Five of the 11 Permanent Sample plots (1 ha each) established 1998-2002 will be re-assessed and a final plot established. Quantify/interpret the cumulative effects of insect attack and climate stress (e.g. 2017 drought) on subalpine fir mortality in the southern interior (plots and other surveys). This data will support the completion of two manuscripts in-progress and a third manuscript that will be started in 2019/20 (specific to balsam weevil). Additional 2019/20 deliverables include: web page on sub alpine fir insect pests; Best Management Practices for WBBB; and the hazard/susceptibility rating system will be completed. The target audience includes Timber Supply Analysts, FLNRORD and Industry Managers, Planning Foresters, Forest Health specialists and climate change teams. | J4: Some 2018 field assessments were impeded by wildfires/access issues. Data analysis and manuscript preparation was initiated. • The role of downed sub alpine fir in outbreak dynamics of WBBB • Evaluation of management tactics for WBBB – trap tree efficacy • Summary of extent, severity and abundance of balsam weevil with a summary of stand attributes (BEC, elevation, climatic conditions, degree days) that enable successful development (1 vs. 2 year life cycle) • Full life history and instar development of balsam weevil and host susceptibility parameters • Loss estimate, by BEC, attributed to balsam weevil and WBBB | K4: The 2018/2019 deliverables are on-track for completion. The following are completed or completion is anticipated by the end of fiscal 2018/2019: • Book chapter for “Western Forest Insects” on Dryocoetes. • Quantification and interpretation of the cumulative effects of insects and climate stressors on subalpine fir in the southern interior. • Description of stand attributes, BEC, elevation and climatic conditions (degree days) that enable WBBB to develop in 1 year versus 2-years. • Role of down material in outbreak dynamics of WBBB • Summary of extent, severity and abundance of balsam weevil – climatic conditions (degree days) that enable successful development (1 versus 2 year life cycle) • Full life history and instar development of balsam weevil and host susceptibility parameters • Manuscripts have been initiated. | L4: NA | M4: Field work planned for 2019/20 will be completed by October 2019. Data summary, analysis and manuscript preparation will be initiated in 2019/20 with target completion and submission of manuscripts 2020/21. | N4: Lorraine Maclauchlan | O4: Mid- to high elevation subalpine sites throughout the Thompson Okanagan Region | P4: Thompson Okanagan Region | Q4: 71944 | R4: Thompson Okanagan Region and throughout southern interior | S4: Continuing Activity | T4: Yes. The final assessments of this long-term research are being conducted. Numerous manuscripts and Best Management Practices are underway so it is imperative that this research is funded/completed. | U4: 23657.92 | V4: 25000 | W4: N | AB4: Timber, Ecosystem Stewardship | AC4: Art Stock (MFLNRORD retired), consultant; Regional Entomologists MFLNRORD
A5: Ecosystem Health and Disturbance | B5: Disturbance Factors | C5: Is there increased incidence and severity of pests in today’s young pine compared to 25 years ago? Options for mitigation. | D5: The post-mountain pine beetle (MPB) and wildfire landscape presents us with vast areas of young regenerating pine and pine mixes. Although there are vast differences across ecosystems and geographic areas, many stands are re-stocked at lower density than in past decades and appear more vulnerable to pest impact. Research is needed to temporally compare and quantify potential differences in current vs. past conditions; determines if pest impacts are greater; and, develop potential mitigation strategies. | E5: 2019 | F5: 2021 | G5: Comparison of pest incidence and impact in stands initiated in the 1970-1980’s to those harvested and regenerated post-MPB (2000-2012) to determine changes in tree-pest dynamics under erratic climate regimes and provide options for mitigation. | H5: Climate change may be making our young stands more vulnerable to pests. Using Pest Incidence Survey data collected in the 1990’s we will survey stands in identified ecosystems of comparable age. Stands density, species composition, relative growth and pest diversity, occurrence and impact will be collected from existing stands and compared to old data. We will match ecosystem, age and geographic area as closely as possible and then elucidate any differences between stands regenerated after the most recent MPB outbreak (2000’s) or the prior MPB outbreak (1980’s). Results of this research could highlight options to mitigate current and future damage. | I5: 1. Summarized data from all Pest Incidence Surveys conducted in the 1990’s within the Thompson Okanagan Region (old Kamloops Region). This summary will be sorted by Biogeoclimatic zone (BEC) and will analyze specific parameters such as species, stem density, pests present, intensity and impact of pests and any other pertinent information. 2. Using the VRI (Vegetation Resource Inventory) as our base we will select a comparable number of stands (BEC, age, location) to survey using the same methodology. 3. The two sampling times will be compared and analysed. 4. Based upon results, management options will be developed. The target audience includes Forests for Tomorrow, the Chief Forester, Timber Supply Analysts, FLNRORD and Industry Managers, Planning Foresters, Forest Health specialists and climate change teams. | M5: Initial stand surveys will be completed in 2019. There may be additional surveys needed in 2020. Data analysis and write-up will be conducted 2020-2021. | N5: Lorraine Maclauchlan | O5: Thompson Okanagan Region - various | P5: Thompson Okanagan Region | Q5: 71944 | R5: southern interior | S5: New | T5: No | U5: - | V5: 24000 | W5: N | AB5: Timber, Ecosystem Stewardship | AC5: Other Regional/Provincial Entomologists & Pathologists; District Forest Health staff, MFLNRORD.
A6: Ecosystem Health and Disturbance | B6: Initiative 2: Determine the impacts of disturbances on resource values (wildfire/soil and site productivity) | C6: Post-Fire Improved Regeneration Experiment (P-FIRE) | D6: The 2017 wildfires devastated large areas of the IDF, particularly in the Cariboo Region, and decision aides to identify management practices that best expedite post-fire Douglas-fir regeneration in drier ecosystems provincially and nationally, are urgently needed. Establishing Douglas-fir is particularly challenging after stand-replacing wildfire due to drought stress and frost/thermal damage, and requires careful application of appropriate silvicultural practices. This project will establish a research trial using three silvicultural treatments in low and high-severity burns, which will be used to evaluate the impacts of wildfire and salvage logging on soil and site productivity, on soil fungal communities, and on regeneration success of planted Dougals-fir in the IDF. | E6: 2018 | F6: Long-term | G6: Post-fire Improved Regeneration Experiment (P-FIRE): monitoring post-fire soil moisture and temperature across a range of silvicultural treatments | H6: Initial establishment of treatments (randomized complete block design, treatments include; salvage logging with debris retention, salvage logging with ripper plow, no-harvest underplanting, low severity burn, and unburned reference stands) via in-kind support from BCTS (winter 2018/19). Installation of a soil mositure and temperature probe network thoughout treatment units, which will assist in identifying how these two variables relate to site productivity across the range of treatments (2019/2020). | I6: Installation of soil mositure and temperature probes/data loggers within treatment units. Data will be collected, analyzed, and used to inform management decisions for logging operators and silviculture foresters. | J6: Draft workplan and literature review. Coordinating with BCTS staff in 100 Mile House to find a contractor for site prep, for development of contract language to ensure salvage logging meets treatment objectives, and for sowing seed for planting (scheduled 2020). | K6: Yes. The logging contract has been tendered with logging scheduled for winter 2018/19. The text of the site prep contract is currently being developed and a contractor has been identified. Stocking targets have been identified and seed has been ordered. Draft workplan and literature review is in progress. | L6: NA | M6: 2020 | N6: Tim Philpott, Gabriel Danyagri | O6: South | P6: Cariboo | Q6: 71916 | R6: Southern interior, dryland ecosystems wherever Douglas-fir is dominant | S6: n | T6: Yes, BCTS has already provided considerable in-kind support in planning and sivlicultre to this former research site (EP1149) that was burned in the 2017 wildfires. | U6: NA | V6: 15000 | W6: Y | X6: Forest Carbon Initiative (planned submission) for full ecosystem carbon partitioning, lysimeter, and decomposition experiments | AA6: N | AB6: Ecosystem Stewardship (Initiative 1), Timber Supply (Initiatve 2) | AC6: Michaela Waterhouse, FLNRORD; Lori Daniels, UBC; BCTS - Mark Seilis 100 Mile House | AD6: Information from this project will reduce risk to environmental, social and economic values by identifying treatments and site conditions that best ensure regeneration success of Douglas-fir. This will ensure Mule Deer Winter Range is adequately restored for hunting and recreational purposes. As well, identifying treatments that promote regeneration success of Douglas fir will improve timber supply to ensure economic health of communities. Douglas-fir survival in post-fire landscapes is also critical for ensuring forest carbon is rapidly sequestered.
A7: Ecosystem Health and Disturbance | B7: Initiative 3: Inform management practices to reduce the risk of significant predicted disturbances | C7: Elytroderma basic biology and inoculation technique | D7: Lack of knowledge of basic bioogy of Elytroderma needle cast (a disease that causes stand level growth losses in the south Cariboo and reductions in wood quality throughout the province) and dependency on natural infection to screen trees for resistance. Need inoculataion technique to screen for resistance and a better understanding of basic biology such as timing of spore release, movement of fungus from needles into branch and stem tissues and reinfection of needles from branch tissues in order to develop better management recommendations in the future. The research can be used to develop elytroderma resistant planting stock and possibly provide insights into the biology of elytoderma tha can be used to provide better management recommendations in the future. | E7: 2019 | F7: March 31, 2021 | G7: Elytroderma Inoculation technique and basic biology | H7: Objectives in order of importance will be to 1) determine timing of infection in nature by collecting fruiting bodies throughout the summer and fall and examining them for spore development, 2)develop an artifical inoculation method for the greenhouse (this would likely involve collecting a large number of needles with fruiting bodies, grinding them up, and then spraying this on seedlings under controlled environmental conditions in the lab or greenhouse) 3) Study the movement over time of mycelia in host needles, shoots, and main stem using microscopy. | I7: 1) knowledge on the timimg of spore release, 2) a technique for artificially inoculating seedlings in the greenhouse 3) knowledge about the growth and spread of elytoderma in stem and branch tissue. Target audience is tree breeders and forest pathologists. | J7: NA | K7: NA | L7: NA | M7: March 31, 2021 | N7: David Rusch | O7: south | P7: All | Q7: 71916 | R7: everywhere where lodgeploe pine grows in the BC interior (most of the province and also occurs in Alberta) | S7: n | T7: no | U7: NA | V7: 35000 | W7: graduate student funding sources will be sought to help support the research | X7: none at present | AA7: yes -1 | AB7: no | AC7: Kathy Lewis, Hugues Massicotte, and Brent Murray from UNBC have expressed interest in this project | AD7: Elytroderma needle cast growth losses in the southern Cariboo are as high as 55% by age 40 in some severely affected stands and can make stands nonmerchantable. Across the province elytroderma causes stem deformities and large elongated knots on the lower boles of affected trees.
A8: Ecosystem Health and Disturbance | B8: Initiative 3: Inform management practices to reduce the risk of significant predicted disturbances | C8: Dwarf Mistletoe Sanitation Trial | D8: No scientific data to support currently recommended dwarf mistletoe sanitation heights in forest health strategies and pressure to stop doing dwarf mistletoe sanitation in order to provide wildlife screening and save licensees money (eg. South Chilcotin Planning agreement with 1st Nations says no sanitation adjacent to moose habitat). It's important to know what current changes and possible future changes to sanitation guidelines and free growing criteria could have on timber supply and forest health in the future. Research will be used to provide guidance to forest professionals on the effects of using 0.3m , 1m, 2m sanitation, and no sanitation on short term, mid term, and long term tree health (from dwarf mistletoe and elytroderma needle cast) and effects of sanitation heights on moose screening. | E8: 2018 | F8: Long-term | G8: Effects of Sanitation height on health and growth of lodgepole pine | H8: This trial replaces a previous trial that burned in 2017. The previous trial had the first measurement taken and analyzed by a statistician. A new site was chosen in the summer of 2018 and the dbh, height, and forest health of trees over the sanitation height was recorded. The sanitation treatments are 0.3m, 1m, 2m, and no treatment. There are 3 replicates per treatment. After planting in the spring of 2019 the planted and remaining residual trees will be tagged, stem mapped, measured, and assessed for forest health. This is a long term trial that will be remeasured at 5 year intervals starting in 2019. | I8: Assess % of dwarf mistletoe, elytroderma, and scarred trees removed during sanitation treatment in each of treatments (3 reps per treatment) and number of trees planted post sanitation. Measurements and current health of planted and remaining residual trees. Target is silviculturists. | J8: presanitation health and dbh and height data | K8: pre-sanitation measurements have been completed and sanitation treatments also completed in October. | L8: NA | M8: 2019 | N8: David Rusch | O8: South | P8: Cariboo | Q8: 71916 | R8: wherever lodgepole pine mistletoe occurs (most of the province as well as Alberta) | S8: n - see comment | T8: Yes, staff time investments in 2018 (roughly 180 man hours split equally between an LSO3 and a STO13) | U8: NA | V8: 26000 | W8: FFT paid for sanitation and will fund planting costs in 2019 as part of a BCTS ITSL | X8: FFT | Z8: some of this funding may support a co-op position | AB8: Timber | AC8: BCTS Williams Lake | AD8: information from this trial can be used to determine the economics of different sanitation treatments and the long term economic impacts of dwarf mistletoe under different sanitation treatments.
A9: Ecosystem Health and Disturbance | B9: Initiative 3: Inform management practices to reduce the risk of significant predicted disturbances | C9: Ringbarking effects on long term survival of planted Fd seedlings | D9: Lack of effective controls for Armillaria. Look at effect of ringbarking on future survival of planted Douglas-fir. Evaluation of ringbarking as a control for Armillaria. | E9: 2016 | F9: Long-term | G9: Ringbarking effects on long term survival of planted Fd seedlings | H9: As part of an on going study to determine the effectiveness of ringbarking Douglas-fir seedlings were planted in ring barked and control plots and tagged in 2018. These will need to be assessed for Armillaria mortality on an annual basis. | I9: 2019-2020 dataset on % killed trees by Armillaria. Foresters | J9: comparison of Armillaria root colonization and starch content on ring-bark versus control trees | K9: Y | L9: NA | M9: ongoing | N9: David Rusch | O9: South | P9: Cariboo | Q9: 71916 | R9: Southern Interior and parts of Alberta | S9: c | T9: Yes, trees will not likely be assessed without funding | U9: 20000 | V9: 6000 | W9: N | Z9: all funding would go to help pay for a coop student | AB9: No | AC9: Daniel Sklar UNBC | AD9: Armillaria is a major cause of tree mortality and growth loss in the southern interior and there are concerns among ranchers and others about on the short and long term impact form stumping
A10: Ecosystem Health and Disturbance | B10: Initiative 2. Determine the impacts of disturbances on resource values | C10: Root Rot Transect Surveys in the Thompson Okanagan ICH | D10: Impact of root disease on TSR. Lacking data to validate existing root rot module in TIPSY. Root disease mortality rate and knowledge about the mean incidence and occurrence of Armillaria in the Thomposn Okanagan ICH and IDFmw. | E10: 2017 | F10: 2022 | G10: Root Rot transect Surveys in the Thompson Okanagan ICH | H10: Conduct root rot transect surveys and check on root rot in CMI and YSM plots. Sites with root rot will be remeasured 4 to 5 years after 1st measurement in order to determine a mortality rate for root disease. Growth impacts may also be determined at second measurement using tree cores if sufficient funds available. These numbers can then be used to determine OAFs based on root disease mortality and growth losses. Checks on CMI and YSM plots will enable these plots to be used to assess long term impacts of root disease in CMI/YSM plots. | I10: incidence and occurrence of root disease in the Thompson Okanagan ICH and IDFmw and ability of inventory crews to pick up root disease in CMI/YSM sampling | J10: 1st year root rot data for 13 sites and check of root rot data in CMI/YSM plots (8 sites done in 2017 for total of 20 to date) | K10: 20 sites have had initial assessment (12 in 2018 and 8 in 2017) | L10: insufficient money to do one site | M10: 1st measurement for all sites to be completed in 2019 final meaurement to be completed in 2022) | N10: David Rusch | O10: South | P10: Cariboo | Q10: 71916 | R10: Thompson Okanagan. The methods of evaluating impacts from root disease in TSR in the Thompson Okanagan could have relevance for other TSAs in the province as well. | S10: c | T10: Increasing the sample size will improve the statistical significance of the data already collected. | U10: 50000 | V10: 5000 | W10: N | AB10: timber | AD10: There is much uncertainty about the impacts of root disease on TSR in the Thompson Okanagan. Factors that have an impact on the annual allowable cut have important socialand economic impacts on the region and the province as a whole.
A11: Ecosystem Health and Disturbance | B11: Initiative 3: Inform management practices to reduce the risk of significant predicted disturbances | C11: 5 year remeasurement of affects of silviculture treatments on elytoderma needle cast in a 40 year old pine stand | D11: Lack of information about the impacts and posible treatment effects of Elytroderma Needle Cast. To better understand the impacts of Elytroderma Needle Cast (eg. effects on growth rates and wood quality) and try to mitigate Elytroderma impacts on growth and wood quality through sivicuture treatemments. Effect of Fd underplanting with and without spacing, pruning, and fertilization on disease levels relative to untreated controls. | E11: 2014 | F11: long-term | G11: effect of silviculture treatments on elytoderma needle cast | H11: This trial was started in 2014 with help from the FFT program and regional funds. FFT paid for Fd underplanting, fertilizer and regional funds paid for spacing and pruning. Information from this trial has been used to assess the impacts of Elytroderma on growth impacts and wood quality (knot size). Underplanted Douglas-fir has reasonably good survival to date but trees were heavily impacted by 2017 drought. Underplanting with Douglas-fir may allow this stand to be returned to growing Douglas-fir in the future. Prior to harvesting this stand was a mixed Douglas-fir and pine stand that was clearcut. Once all Douglas-fir is removed it is difficult to get Douglas-fir back on the site because of frost and summer droughts. Spacing consisted of removing layer 3 and 4 trees severely impacted by Elytroderma needle cast that were taking up growing space but not contributing to future timber supply. Pruning was carried out to study the impact of Elytroderma on knot size and see if pruning of infected branches could improve future growth and wood quality. Fertilizer was also applied to determine if fertilized trees could recover more quickly from growth impacts caused by Elytroderma. Severe growth impacts due to Elytroderma are unique to the southern interior and low site index may partially explain this. | I11: Initial measurements were taken before treatment effects could be seen. This 5 year remeasurement should help determine which if any of the treatments was effective in reducing the impacts of the disease and provide insites into possible mitigation treatments such as spacing and or underplanting. | J11: NA | K11: NA | L11: NA | M11: 2019 | N11: David Rusch | O11: South | P11: Cariboo | Q11: 71916 | R11: most severe impacts are in south Cariboo but wood quality impacts occur throughout the province | S11: n - see comment | T11: Yes. Insufficent staff to do remeaurements. | U11: NA | V11: 7000 | W11: N | Z11: funds from this project will go to help hire a co-op student to help do the assessments | AB11: timber | AC11: FFT helped to set this trial up | AD11: This established trial has had many measurements previously, requires funding to continue measurements. Elytroderma negatively affects the growth of logepole pine stands in the southern Cariboo (up to 55% growth reduction in some stands) and affects wood quality throughout the province.
A12: Ecosystem Health and Disturbance | B12: Initiative 3: Inform management practices to reduce the risk of significant predicted disturbances | C12: Lodgepole pine progeny trial to identify families with resistance to Elytroderma needle cast | D12: No current treatment for Elytroderma needle cast. Research is needed to identify families with resistance and to determine if origin of family is related to resistance (elevation or BEC zone). Information about relative resistance of families to elytroderma needle cast that could be used in a future breeding program. | E12: 2015 | F12: 2035 | G12: Lodgepole pine progeny trial to identify families with resistance to Elytroderma needle cast | H12: Trees are annually assessed for Elytroderma needle cast. There are two sites 5,000 trees each from 99 families. Weather data is also collected each year to assess whether infection is related to weather conditions. | I12: plot and weather station maintenance and assessment of trees for growth and forest health | J12: plot and weather station maintenance and assessment of trees for growth and forest health | K12: all deliverables completed | L12: NA | M12: 2035 | N12: David Rusch | O12: South | P12: Cariboo | Q12: 71916 | R12: Cariboo | S12: c | T12: this will be year 4 of a long term trial with significant previous investment of time and money | U12: 4550 | V12: 5000 | W12: N | Z12: funding will contribute to hiring of a summer student to help carry out assessments | AD12: Elytroderma has significant growth impacts in the southern interior and affects wood quality throughout the province.
A13: Ecosystem Health and Disturbance
A14: Ecosystem Health and Disturbance | B14: Disturbance (2b) | C14: Long Term Soil Productivity Study EP 1148 | D14: Harvesting practices have resulted in declines in forest productivity, ecosystem health and resilience through losses of organic matter and decreases in soil porosity. The reduction of severe soil disturbance and compaction during forest management activities is a key mechanism to achieve long term sustainability in forest ecosystems. The 20 year results of this study will support soil conservation guidelines under FRPA by providing research published in scientific journals and extension materials which quantify changes in site conditions and tree growth after soil disturbance. | E14: 1995 | F14: 2095 | G14: Long Term Soil Productivity Study (EP1148) | H14: Mineral soil, forest floor, foliar samples for year 20 replicates collected in summer 2018. Forest floor chemical analysis samples require funding to complete suite of year 20 sampling and enable analysis. | I14: Chemical analysis of 54 forest floor samples from year 20. Data organization to enable Year 20 statistial analysis of LTSP location in BWBS. | J14: Soil and foliar samples collected, and prepared for laboratory analysis. | K14: Yes, 20 year soil and foliar samples collected and processed. | M14: 43921 | N14: Richard Kabzems | O14: Dawson Creek | P14: Northeast Region | R14: Northeast | S14: c | T14: Yes. 20 year old experimental site which is part of an international research effort. Publications in refereed journals and extension activities provide scientific support for the soils value of FRPA. | U14: 0 (from Ecosystem I/O) | V14: 5000 | W14: N | AC14: Lorne Bedford, Forest Practices
A15: Ecosystem Health and Disturbance | B15: Determine the impacts of disturbances on resource values | C15: Remote sensing of environmental change in the North Area | D15: Observing and quantifying environmental change, whether natural or human caused, across the North Area is very costly and time consuming. Forest health (e.g. diseases and infections), climate change (e.g. air temperature rise and drought), wildfire (e.g. fire management and severity mapping), geohazards (e.g. landslides and floods) and operational activities (e.g. timber supply and harvest monitoring) can all be observed and quantified from multiple satellite platforms. Research is needed to integrate these data sources into FLNRORD research and operations. | E15: 2016 | F15: 2021 | G15: Remote sensing of environmental change in the North Area | H15: Same as Project Description | I15: 1. 2019/20 Paper submission anticipated (80% complete): Detection of linear disturbances in northeastern British Columbia and their recovery by combining high and moderate resolution satellite images 2. 2019/20 Paper submission anticipated (80% complete): TimelapseBC: Rapid computation of Landsat Archive and Sentinel-2 statistical image mosaics in mountainous environments using Google Earth Engine | J15: Phase 1 - develop a historic forest change detection algorithm of the North Area from 1972-2015 and field validate; Phase 2 - develop a near real-time forest change detection algorithm of the North Area and field validate; Phase 3 - develop an online tool of change detection that integrates both the historic and real-time models for general usage and field validate; Phase 4 - implement the online tool. | K15: 1. 2018 Paper published: "A Review of Free Optical Satellite Imagery for Watershed-Scale Landscape Analysis" doi.org/10.22230/jwsm.2018v2n2a18 2. Two satellite remote sensing workshops taught in 18/19 in Prince George (>30 participants per) | L15: Development of online tool "TimelapseBC" (phase 3 and 4) will not be complete this year. I am confident that the tool will be available in 19/20. | M15: 2021 | N15: Bevington, A. | O15: North | P15: Omineca | Q15: 71821 | R15: North Area | S15: C | T15: Yes | U15: 22748 | V15: 30000 | W15: Yes | X15: Caribou Recovery | AA15: 1 | AB15: Ecosystem Stewardship, Species and Habitat, Water, Timber Supply | AC15: Marten Geertsema, Vanessa Foord, others (FLNRO); GIS teams (FLNRO); Ian Housman (US Forest Service); Roger Wheate, Joe Shea, Mike Gillingham, Matt Muma, Brian Menounos and (UNBC); Dan Shugar (Univ. Tacoma); Shelley Marshall, Garth Mowatt (FLNRO Wildlife); Mike Wulder (CFS); Richard Reich (CNC); Mike Sawada (University of Ottawa); Bronwyn Benkert (Yukon Research Centre); FLNRO Wildfire Management (Jen Naylor); and others.
A16: Ecosystem Health and Disturbance | B16: Determine the impacts of disturbances on resource values | C16: Pathology impact assessments | D16: Improve estimates of disease on young stand growth and yield to be used by the Chief Forester for AAC determinations, Directors of FAIB, RPB and operational foresters in Central BC. This is a FLNR priority for improving Mid-Term Timber Supply estimates. Forest health impacts will be more accurately addressed in growth and yield models which will ultimately be used to estimate the impact on stand yields for TSR. | E16: 2004 | F16: 2020 | G16: 1) Hard pine stem rust data analysis and report from EP 671 - Dog Creek espacement trial | H16: Data preparation, interpretation and analysis to summarize influence of espacement on rust incidence at Dog Creek trial. Results will be compiled into a formal report with objective of publication with government affiliation. | I16: 2) Follow up with 2018/19 Deliverable #2 - find linkages with the GRIM and CRIME modules is possible. | J16: Follow with FAIB and GRIM/CRIME modellers to determine what the next steps are related to this project. | K16: Deliverable #1 - On track for successful completion. Completion of Phase 3 (final phase) due date March 2019; all analyses revised and completed. Draft #2 of publication in review with goal of completing Draft #3 by end of November. Goal to submit to journal early in 2019. Full 2018/19 amount was allocated and required for Phase 3. | L16: Deliverable #2 - during the process of defining the scope of this data analysis and publication it became obvious that Derek Sattler was already using a portion of this dataset for these purposes. This specific analysis will not be incorporated into GRIM or CRIME; however, this analysis and publication provides important information regarding stand development over a 38 year period. | M16: March, 2020 | N16: Yurkewich J. | O16: North | P16: Omineca | Q16: 71821 | R16: Omineca Region/ north of Fort Fraser | S16: C | T16: yes, the data has been gathered for several years and investment will be lost if funding for project completion is not received. | U16: 20,000 (only $19,360 received due to adjustment) | V16: No further funding required. | W16: N | X16: N/A | AB16: Timber Supply, Ecosystem Stewardship | AC16: Richard Reich (CNC); Amanda Nemec (private contractor). | AD16: Anticipated completion of Phase 3 March 2019.
A17: Ecosystem Health and Disturbance | B17: Determine the impacts of disturbances on resource values | C17: Pathology impact assessments | D17: Improve estimates of disease on young stand growth and yield to be used by the Chief Forester for AAC determinations, Directors of FAIB, RPB and operational foresters in Central BC. This is a FLNR priority for improving Mid-Term Timber Supply estimates. Forest health impacts will be more accurately addressed in growth and yield models which will ultimately be used to estimate the impact on stand yields for TSR. | E17: 2004 | F17: 2025 | G17: 2) Continued assessment of existing, long term Hard pine stem rust trials: a) Comandra screening trials (Thompson, Endako and Holy Cross); b1) Pine progeny trial (Crystal Lake and Mackenzie); and b2) Effects of physiological age of pine on infection rate of rusts (Crystal Lake, Mackenzie and Boulder Creek). | H17: Detailed stand level data is required to develop a hard pine stem rust module for TASS. Very few long-term PSPs that have recorded rust damage and tree responses are availalble and thus are extremely valuable sources of information. There are mulitple activities related to continued data collection including : a) data collection from all sites to support TASS modules (GRIM and CRIME) and public/government/stakeholder investments in high incidence rust areas through continued assessment of Hard pine stem rust trials; b) annual reassessment recording disease development, health status and cause of mortality; and c) dedication to data collection to follow stand development through to target of 15 years (maximum target of 20 years); d) data analysis and report preparation for the Comandra screening trial after year 15; e) stem gall assessment at the Comandra screening trial to improve data quality for input into GRIM. | I17: Deliverables for 2019/2020 activities: 1) annual assessment of rust trial; 2) stem gall assessment - March, 2020; 3) Tree heights - March 2020. | J17: 2018/19 Deliverable a) this data was shared with Derek Sattler (at the time with FAIB) to include in his GRIM and CRIME modules; | K17: 2018/19 Deliverable a) this data was shared with Derek Sattler (at the time with FAIB) to include in his GRIM and CRIME modules; Deliverable b) 2018 data collection completed. This was supported by Rebecca Bowler via an auxilliary position that was partly funded by this project; Deliverable c,d) This is ongoing. These goals will be achieved upon completion of the 15th annual assessment. | L17: Deliverable: Stem gall assessment was not completed in the 2018 field season primarily due to fires. Set the new target for March 2020. In addition, 2018 tree heights were not collected due to funding pressures (including increased cost for experienced Auxilliary and that I gave $5K back to the funding pot to cover a missed project) and the fire season. This goal will be put forward to March 2020. | M17: March, 2025 Activities to come: 1) Comandra screening trial 15 year target - March, 2020; 2) tree height remeasurements and Free growing survey - March 2021; 23) Comandra screening trial publication - March, 2025 | N17: Yurkewich J. | O17: North | P17: Omineca | Q17: 71821 | R17: Nadina District/Stewart Nechako District (Fort Fraser) | S17: C | T17: yes, data has been gathered for several years and investment will be lost if funding is not received | U17: 30,000 (only $29, 040 (-$5,000 which was returned to buffer adjustment) was received due to adjustment) | V17: 35000 | W17: N | X17: N/A | AA17: 1 | AB17: Timber Supply, Ecosystem Stewardship | AC17: Collaborators: FAIB ; Richard Reich (CNC) | AD17: For 2019/20: $35000 (10,000 for contract for tree heights); ($25,000 to hire an auxilliary or student or contractor) -------------- The complete dataset (15 years) from the Comandra screening trial will be valuable to inform TSR and will provide insight into the management options that make a difference to programs such as FFT in the long term. The publication of this information will provide a baseline for rust management in British Columbia due to the robust design of the project.
A18: Ecosystem Health and Disturbance | B18: Determine the impacts of disturbances on resource values | C18: Pathology impact assessments | D18: Improve estimates of disease on young stand growth and yield to be used by the Chief Forester for AAC determinations, Directors of FAIB, RPB and operational foresters in Central BC. This is a FLNR priority for improving Mid-Term Timber Supply estimates. Forest health impacts will be more accurately addressed in growth and yield models which will ultimately be used to estimate the impact on stand yields for TSR. | E18: 2007 - weather stations installed in 2007 | F18: 2025 | G18: 3) Assessing influence of microclimate and topography on rust incidence and implications of climate change. - Comandra screening trial (Thompson, Endako and Holy Cross) | H18: Data preparation and analysis of 10 year correlation between data from weather stations and rust incidence for the Comandra screening trial (Thompson, Endako and Holy Cross). This work complements the work being conducted by Vanessa Foord (Ecosystem stewardship IO - Activity: Climate change indicators in northern BC to pine foliar diseases/rusts and in high elevation areas.) but cannot replace it as this activity does not include maintanence of sites or equipment. This activity will provide information for forest health decisions, BEC climate change adaptation, and improvements to climate modelling. | I18: 2019/2020 deliverable: publication in an appropriate format/journal (TBD; potentially a technical report) - March 2020. The publication of this 10 year summary will help to inform risk hazard and the direction of further analysis designed to help inform FAIB regarding the influence of a changing climate on timber supply. This work also has the potential to provide guidance for future AAC determinations and timber supply reviews. Within the Omineca this work has links to the Omineca Climate Action Plan and the Climate Change Strategy. | J18: 2018/19 deliverable: initial draft of 10-year summary report - March 2019. | K18: All rust data has been cleaned and reformatted for data analysis. Preliminary rust summaries are in process ( January, 2019). Weather station data has been compiled and all backdating has been completed. Weather station data is in process of being summarized . Initial 10-year summary report target date - March 2019. | L18: 1) Trends between weather station data and rust incidence have not been linked with GRIM and CRIME because they are not finished. Connection with GRIM and CRIME is more directly related to the comandra screening trial as a whole. | M18: March, 2025 Activities to come: Relative humidity probe data is yet to be compiled and analyzed. The initial 10-year summary will inform whether or not this task will be completed based on the initial results. | N18: Yurkewich J./Foord V. | O18: North | P18: Omineca | Q18: 71821 | R18: Omineca and Northeast regions / Skeena region | S18: C | T18: yes, data has been gathered for several years and the value-added benefit of interdisciplinary work may be lost if funding is not approved | U18: $20,000 (only $19, 360 was received due to adjustment) | V18: 20000 | W18: N | X18: N/A | AA18: 1 | AB18: Water, Timber Supply, Ecosystem Stewardship | AC18: Vanessa Foord, Richard Reich (CNC) | AD18: Funding will be used to hire or extend Auxilliary position to continue with the data preparation and initial draft of publication
A19: Ecosystem Health and Disturbance | B19: Disturbance Impacts and risk reduction | C19: Landslide detection and mitigation by combining spaceborne Synthetic Aperture Radar (SAR) and optical data | D19: Slow deformation of slopes, precursory to landslides, is very difficult to assess over a large area. Synthetic Aperture Radar (SAR) data has the capacity to detect the subtle motion of slopes with decimeter accuracy. This research would be very valuable for infrastructure and geohazard concerns in mountainous areas. Enhance in-house FLNRO capabilities to detect subtle (decimeter) slope deformation at the watershed scale using multiple SAR datasets. | E19: 2016 | F19: 2021 | G19: Landslide mitigation using spaceborne Synthetic Aperture Radar (SAR) | H19: Same as Project Description | I19: 1. 2019/20 Paper submission anticipated (80% complete): Near realtime mapping of wildfire progression and slope instability in the central interior of British Columbia from Sentinel-1 Synthetic Aperture Radar 2. 2019/20 Paper submission anticipated (40% complete): Semi-automated landslide detection using second derivative spectral indices, northwestern British Columbia | J19: Capacity development and proof of concept studies will be done to demonstrate the applicability of these technologies to known regions of concern. Once demonstrated, then we will develop similar algorithms to analyse slope stability over large areas. We hope to identify slopes of concern, not predict landslides. Project deliverables and target audience include (but not limited to): Case studies in problematic areas (Research geomorphology / Pipelines / Road engineering / Alpine or subalpine infrastructure / Oil and gas activities); and upscaling of these hazard maps to infrastructure corridors (Research geomorphology / Climatology / Managers / Engineers, etc.) | K19: 1. Capacity development on track, now have the software, data and workflow necessary for this project 2. Collaborative field work and case study workflows are on track | M19: 2021 | N19: Bevington, A. | O19: North | P19: Omineca | R19: North Area | S19: C | T19: Yes | U19: 18198 | V19: 20000 | W19: No | AB19: Ecosystem Stewardship, Species and Habitat, Water | AC19: Marten Geertsema (FLNRO Research); Brian Menounos (UNBC); Bernard Rabus (SFU); Stephan Gruber (Carleton University); Marco van der Kooij (MDA Corporation); Andreas Kaab (University of Oslo); Marc-Andre Brideau (SFU); Kevin Torpy (Pretivm Resources - Brucejack Mine) | AD19: Extension:
A20: Ecosystem Health and Disturbance | B20: Disturbance Impacts and risk reduction | C20: Landslide ecology and restoration | D20: Landslides alter site, soil, and vegetation conditions - resetting the ecological clock. Impacts of landslides can have both negative and positive ecological impacts. Our studies of landlide ecology quantifies these changes and provides an analogue for ecological restoration and reclamation of severly disturbed sites. | E20: 2017 | F20: 2020 | G20: Landslide succession and implications for restoration | H20: Analyze site, soil and habitat diversity within historic landslides to identify key factors which can be applied in ecosystem restoration and site reclamation. | I20: statistical work, additional field work, presentations, draft manuscripts | J20: field data collection, statistical analyses, conference presentations | K20: all complete including conference presentations in Washington State and Harbin, China | N20: Geertsema/Kabzems | O20: Northeast | R20: all | S20: c | T20: end results not delivered if not funded | U20: 45000 | V20: 45000 | W20: n | AB20: water | AC20: Burton / Kress UNBC
A21: Ecosystem Health and Disturbance | B21: Disturbance Impacts and risk reduction | C21: Landslide tsunami | D21: One of the most far reaching secondary effects of landslides entering water bodies are landslide displacement waves (tsunamis). Numerous BC lakes and inlets with shoreline communities may be at risk. In 2007 a 38 m wave devastated Chehalis Lake, and in 2015 a 185 m wave ran through Taan Fjord, Alaska, some 15 km from the BC border. The evidence of past events can help predict the likelihood of future events - unfortunately terrestrial evidence is often poorly preserved, and the best archives are under water. This project will use underwater geophysics to map and characterize past landslides that may have triggered tsunamis. | E21: 2017 | F21: 2021 | G21: tsunami hazard from landslides | H21: Teaming up with research partners we will use a Ministry boat and SFU's multibeam and NRCAN's sonar to map and characterize subaqueous landslide deposits. We will examine nearshore terrestrial sedimentary tsunami deposits to catalogue past events. We will model tsunami propagation using Clifornia software. | I21: multibeam bathymetry, subbottom profiling, wetland sedimentology, lidar analyses | J21: multibeam bathymetry, subbottom profiling, wetland sedimentology | K21: all completed | N21: Geertsema | O21: all | R21: all | S21: c | T21: end results not delivered if not funded | U21: 30000 | V21: 30000 | W21: n | AB21: water | AC21: Koppes UBC, Clague and Roberts SFU, Kwoll UVIC, Lynette UCDavis, Higman Alaska, Tom Millard (Coast)
